Workbook

Sheet 2024
A1: 序号 | B1: 学号 | C1: 姓名 | D1: 总分 | E1: 获奖等次
A2: 1 | B2: 24042202016 | C2: 管庭坤 | D2: 58 | E2: 一等
A3: 2 | B3: 24042202002 | C3: 徐英桥 | D3: 39.4 | E3: 一等
A4: 3 | B4: 24042202007 | C4: 韩浩宇 | D4: 38.9 | E4: 二等
A5: 4 | B5: 24042202003 | C5: 夏扬帆 | D5: 37.7 | E5: 二等
A6: 5 | B6: 24042202004 | C6: 廖佳慧 | D6: 28.9 | E6: 二等
A7: 6 | B7: 24042202006 | C7: 邵慧涵 | D7: 27.3 | E7: 二等
A8: 7 | B8: 24042202018 | C8: 李玥禛 | D8: 25.6 | E8: 三等
A9: 8 | B9: 24042202013 | C9: 肖雨晴 | D9: 25.3 | E9: 三等
A10: 9 | B10: 24042202008 | C10: 刘倩丽 | D10: 25 | E10: 三等
A11: 10 | B11: 24042202001 | C11: 祁乐 | D11: 24.8 | E11: 三等
A12: 11 | B12: 24042202009 | C12: 谢佳祺 | D12: 24.4 | E12: 三等
A13: 12 | B13: 24042202014 | C13: 尹乃加 | D13: 21.6 | E13: 三等
... A45: 44 | B45: 24042301016 | C45: 全琦 | D45: 23.5 | E45: 三等

Sheet 2025
A1: 序号 | B1: 学号 | C1: 姓名 | D1: 总分 | E1: 获奖等次
A2: 1 | B2: 250042202018 | C2: 何晓楠 | D2: 61.198 | E2: 一等
A3: 2 | B3: 250042202006 | C3: 黄燕云 | D3: 58.764 | E3: 一等
A4: 3 | B4: 250042202009 | C4: 金诗睿 | D4: 57.636 | E4: 二等
A5: 4 | B5: 250042202003 | C5: 高睿泽 | D5: 57.612 | E5: 二等
A6: 5 | B6: 250042202010 | C6: 张芳瑜 | D6: 57.354 | E6: 二等
A7: 6 | B7: 250042202007 | C7: 解美玲 | D7: 57.128 | E7: 二等
A8: 7 | B8: 250042202014 | C8: 肖梦瑶 | D8: 57.042 | E8: 三等
A9: 8 | B9: 250042202015 | C9: 奚铭龙 | D9: 55.744 | E9: 三等
A10: 9 | B10: 250042202001 | C10: 张蕾 | D10: 55.134 | E10: 三等
A11: 10 | B11: 250042202017 | C11: 宋环玲 | D11: 54.9 | E11: 三等
A12: 11 | B12: 250042202005 | C12: 刘娇 | D12: 54.516 | E12: 三等
A13: 12 | B13: 250042202004 | C13: 廖颖 | D13: 54.44 | E13: 三等
... A41: 40 | B41: 250042301027 | C41: 蔺龙雪 | D41: 53.098 | E41: 三等

Sheet 2026
A1: 序号 | B1: 学号 | C1: 姓名 | D1: 初复试综合分 | E1: 获奖等次
A2: 1 | B2: =VLOOKUP(C2,[1]学生信息!$B$1:$C$65536,2,0) -> 260042301003 | C2: 王希 | D2: 85.62 | E2: 二等
A3: 2 | B3: =VLOOKUP(C3,[1]学生信息!$B$1:$C$65536,2,0) -> 260042301038 | C3: 戴鑫宇 | D3: 84.74 | E3: 二等
A4: 3 | B4: =VLOOKUP(C4,[1]学生信息!$B$1:$C$65536,2,0) -> 260042301018 | C4: 罗双艳 | D4: 84.04 | E4: 二等
A5: 4 | B5: =VLOOKUP(C5,[1]学生信息!$B$1:$C$65536,2,0) -> 260042301035 | C5: 李文 | D5: 84.02 | E5: 二等
A6: 5 | B6: =VLOOKUP(C6,[1]学生信息!$B$1:$C$65536,2,0) -> 260042301037 | C6: 陈永康 | D6: 83.2 | E6: 二等
A7: 6 | B7: =VLOOKUP(C7,[1]学生信息!$B$1:$C$65536,2,0) -> 260042301041 | C7: 石芸依 | D7: 82.92 | E7: 三等
A8: 7 | B8: =VLOOKUP(C8,[1]学生信息!$B$1:$C$65536,2,0) -> 260042301009 | C8: 陈业创 | D8: 82.56 | E8: 三等
A9: 8 | B9: =VLOOKUP(C9,[1]学生信息!$B$1:$C$65536,2,0) -> 260042301027 | C9: 田芳川 | D9: 82.36 | E9: 三等
A10: 9 | B10: =VLOOKUP(C10,[1]学生信息!$B$1:$C$65536,2,0) -> 260042301014 | C10: 葛子怡 | D10: 82.24 | E10: 三等
A11: 10 | B11: =VLOOKUP(C11,[1]学生信息!$B$1:$C$65536,2,0) -> 260042301046 | C11: 蔡燚 | D11: 81.9 | E11: 三等
A12: 11 | B12: =VLOOKUP(C12,[1]学生信息!$B$1:$C$65536,2,0) -> 260042202009 | C12: 杨钥茹 | D12: 81.86 | E12: 三等
A13: 12 | B13: =VLOOKUP(C13,[1]学生信息!$B$1:$C$65536,2,0) -> 260042301004 | C13: 覃洪扬 | D13: 81.82 | E13: 三等
... A52: 51 | B52: =VLOOKUP(C52,[1]学生信息!$B$1:$C$65536,2,0) -> 260042301020 | C52: 吴慕云 | D52: 77.4 | E52: 三等
A53: 53 | B53: 260042301021 | C53: 田黔闽 | D53: 72.16 | E53: 三等
A54: 54 | B54: =VLOOKUP(C54,[1]学生信息!$B$1:$C$65536,2,0) -> 260042202010 | C54: 陈志财 | D54: 63.8 | E54: 三等
